BEGIN:VCALENDAR
VERSION:2.0
PRODID:-//www.ostermundigen.ch//NONSGML kigkonsult.se iCalcreator 2.22//
CALSCALE:GREGORIAN
METHOD:PUBLISH
X-WR-TIMEZONE:Europe/Berlin
BEGIN:VEVENT
UID:20260419T224526CEST-9424fsvUpV@www.ostermundigen.ch
DTSTAMP:20260419T204526Z
DESCRIPTION:Klicken Sie auf den folgenden Link\, um weitere Informationen z
 ur Veranstaltung zu erhalten:\nhttp://www.ostermundigen.ch/de/veranstaltun
 gen/detail/detail.php?i=525
DTSTART:20240115T180000
DTEND:20240115T193000
LOCATION:Gemeindebibliothek
SUMMARY:Trauercafé
END:VEVENT
END:VCALENDAR
