BEGIN:VCALENDAR
VERSION:2.0
PRODID:-//www.ostermundigen.ch//NONSGML kigkonsult.se iCalcreator 2.22//
CALSCALE:GREGORIAN
METHOD:PUBLISH
X-WR-TIMEZONE:Europe/Berlin
BEGIN:VEVENT
UID:20260419T223931CEST-4077tc7ltC@www.ostermundigen.ch
DTSTAMP:20260419T203931Z
DESCRIPTION:Klicken Sie auf den folgenden Link\, um weitere Informationen z
 ur Veranstaltung zu erhalten:\nhttp://www.ostermundigen.ch/de/veranstaltun
 gen/detail/detail.php?i=524
DTSTART:20240119T170000
DTEND:20240120T000000
LOCATION:KuHu11a
SUMMARY:Vernissage Personal Mountains - Berge und andere Probleme
END:VEVENT
END:VCALENDAR
