BEGIN:VCALENDAR
VERSION:2.0
PRODID:-//www.ostermundigen.ch//NONSGML kigkonsult.se iCalcreator 2.22//
CALSCALE:GREGORIAN
METHOD:PUBLISH
X-WR-TIMEZONE:Europe/Berlin
BEGIN:VEVENT
UID:20260419T224346CEST-7562TT6vpM@www.ostermundigen.ch
DTSTAMP:20260419T204346Z
DESCRIPTION:Klicken Sie auf den folgenden Link\, um weitere Informationen z
 ur Veranstaltung zu erhalten:\nhttp://www.ostermundigen.ch/de/veranstaltun
 gen/detail/detail.php?i=531
DTSTART:20240120T150000
DTEND:20240120T220000
LOCATION:KuHu11a
SUMMARY:Ausstellung Personal Mountains und andere Probleme
END:VEVENT
END:VCALENDAR
